BEGIN:VCALENDAR
VERSION:2.0
PRODID:-//Acme Widgets\, Inc.//NONSGML ExportToCalendar//EN
CALSCALE:GREGORIAN
BEGIN:VEVENT
DTSTAMP:20260421T084508Z
UID:1ed6ec90-65d7-4293-ba1a-e8c2341743ad
DTSTART:20260418T093000
DTEND:20260418T095000
DESCRIPTION:Inspection for 409 / 37-43 Breese Street\, BRUNSWICK VIC 3056
LOCATION:409 / 37-43 Breese Street\, BRUNSWICK VIC 3056
SUMMARY:409 / 37-43 Breese Street\, BRUNSWICK VIC 3056
END:VEVENT
END:VCALENDAR
